BEGIN:VCALENDAR
VERSION:2.0
PRODID:-//Cognid - ECPv6.15.20//NONSGML v1.0//EN
CALSCALE:GREGORIAN
METHOD:PUBLISH
X-ORIGINAL-URL:https://cognid.de
X-WR-CALDESC:Veranstaltungen für Cognid
REFRESH-INTERVAL;VALUE=DURATION:PT1H
X-Robots-Tag:noindex
X-PUBLISHED-TTL:PT1H
BEGIN:VTIMEZONE
TZID:Europe/Berlin
BEGIN:DAYLIGHT
TZOFFSETFROM:+0100
TZOFFSETTO:+0200
TZNAME:CEST
DTSTART:20230326T010000
END:DAYLIGHT
BEGIN:STANDARD
TZOFFSETFROM:+0200
TZOFFSETTO:+0100
TZNAME:CET
DTSTART:20231029T010000
END:STANDARD
BEGIN:DAYLIGHT
TZOFFSETFROM:+0100
TZOFFSETTO:+0200
TZNAME:CEST
DTSTART:20240331T010000
END:DAYLIGHT
BEGIN:STANDARD
TZOFFSETFROM:+0200
TZOFFSETTO:+0100
TZNAME:CET
DTSTART:20241027T010000
END:STANDARD
BEGIN:DAYLIGHT
TZOFFSETFROM:+0100
TZOFFSETTO:+0200
TZNAME:CEST
DTSTART:20250330T010000
END:DAYLIGHT
BEGIN:STANDARD
TZOFFSETFROM:+0200
TZOFFSETTO:+0100
TZNAME:CET
DTSTART:20251026T010000
END:STANDARD
END:VTIMEZONE
BEGIN:VEVENT
DTSTART;VALUE=DATE:20240924
DTEND;VALUE=DATE:20240928
DTSTAMP:20260424T032340
CREATED:20240730T084441Z
LAST-MODIFIED:20240904T070651Z
UID:7760-1727136000-1727481599@cognid.de
SUMMARY:Cognid - InnoTrans 2024
DESCRIPTION:Die InnoTrans 2024 ist eine internationale Fach-messe für Verkehrstechnik (Innovative Kompo-nenten\, Fahrzeuge und Systeme) mit demSchwerpunkt der Schienenverkehrstechnik. DieInnoTrans 2024 wird von der Messe Berlin GmbH(„MB“) auf dem Berliner Messegelände veranstal-tet.Die InnoTrans 2024 ist eine internationale Fach-messe für Verkehrstechnik (Innovative Kompo-nenten\, Fahrzeuge und Systeme) mit demSchwerpunkt der Schienenverkehrstechnik. DieInnoTrans 2024 wird von der Messe Berlin GmbH(„MB“) auf dem Berliner Messegelände veranstal-tet. \n\n \nDie InnoTrans vom 24. bis 27. September 2024 in Berlin präsentiert Innovationen für eine sichere\, effiziente und umweltfreundliche Mobilität. Die Messe betont Elektrifizierung\, Digitalisierung\, Automatisierung und Nachhaltigkeit im Verkehrssektor mit Weltneuheiten und internationaler Zusammenarbeit. Besuchen Sie uns in Halle 6.1\, Stand 208\, um unsere Vision der digitalen Zukunft kennenzulernen.
URL:https://cognid.de/event/cognid-innotrans-2024/
LOCATION:InnoTrans\, Messe Berlin\, Messedamm 22\, Berlin\, 14055\, Deutschland
ATTACH;FMTTYPE=image/jpeg:https://cognid.de/wp-content/uploads/2024/07/innotrans_logo-scaled-e1722329564244.jpg
ORGANIZER;CN="Messe Berlin GmbH%2C InnoTrans":MAILTO:innotrans@messe-berlin.de
END:VEVENT
BEGIN:VEVENT
DTSTART;VALUE=DATE:20240906
DTEND;VALUE=DATE:20240908
DTSTAMP:20260424T032340
CREATED:20240730T075454Z
LAST-MODIFIED:20240904T071203Z
UID:7698-1725580800-1725753599@cognid.de
SUMMARY:Cognid - Platformer's Day 2024
DESCRIPTION:Erleben Sie Maschinentechnik hautnah. Entdecken Sie die neuesten Innovationen. Erweitern Sie Ihr Netzwerk. \nHoch hinaus geht es auf den Platformers‘ Days – der Fachmesse für mobile Hebe- und Höhenzugangstechnik. Seit über 20 Jahren vereint dieses Branchenhighlight das Who-is-Who der Arbeitsbühnen-\, Kran- und Staplerbranche. Vom 6. bis 7. September 2024 bietet die Messe intensive Produktberatung im Realbetrieb\, umfassenden Wissenstransfer und einzigartige Networking-Möglichkeiten\, sowohl tagsüber als auch bei einer stimmungsvollen Abendveranstaltung . \n  \nWeitere Informationen unter: platformers-days.de.
URL:https://cognid.de/event/cognid-platformers-day-2024/
LOCATION:Platformer’s Days\, Messe Karlsruhe\, Messeallee 1\, 76287 Rheinstetten\, 76287\, Deutschland
ATTACH;FMTTYPE=image/png:https://cognid.de/wp-content/uploads/2024/07/cognidtele_Halle1-H224_PD_24_Banner-fuer-Webseiten_250x250.png
END:VEVENT
END:VCALENDAR